BEGIN:VCALENDAR
VERSION:2.0
PRODID:-//The Technology Express - ECPv6.15.20//NONSGML v1.0//EN
CALSCALE:GREGORIAN
METHOD:PUBLISH
X-WR-CALNAME:The Technology Express
X-ORIGINAL-URL:https://thetechnologyexpress.com
X-WR-CALDESC:Events for The Technology Express
REFRESH-INTERVAL;VALUE=DURATION:PT1H
X-Robots-Tag:noindex
X-PUBLISHED-TTL:PT1H
BEGIN:VTIMEZONE
TZID:UTC
BEGIN:STANDARD
TZOFFSETFROM:+0000
TZOFFSETTO:+0000
TZNAME:UTC
DTSTART:20250101T000000
END:STANDARD
END:VTIMEZONE
BEGIN:VEVENT
DTSTART;VALUE=DATE:20260209
DTEND;VALUE=DATE:20260211
DTSTAMP:20260420T121846
CREATED:20260106T055133Z
LAST-MODIFIED:20260106T055133Z
UID:78397-1770595200-1770767999@thetechnologyexpress.com
SUMMARY:Global Blockchain Show Riyadh
DESCRIPTION:Taking place on February 9–10\, 2026\, at Malfa Hall\, Riyadh\, the Global Blockchain Show (GBS) 2026 positions the Saudi capital as a growing centre for blockchain and Web3 innovation. The two-day event brings together global technology leaders\, policymakers\, investors\, developers\, and innovators who drive the decentralized digital economy. \nPowered by Times of Blockchain\, the Riyadh edition of GBS serves as a strategic platform where emerging technologies intersect with enterprise adoption and policy dialogue. The event is expected to host over 10\,000 attendees\, 250 global speakers\, 200 exhibitors\, and 300 media partners\, making it one of the largest blockchain-focused gatherings in the Middle East. \nThe programme will feature keynote sessions from global leaders\, expert-led panel discussions\, and interactive workshops offering practical exposure to blockchain platforms\, crypto applications\, and Web3 solutions shaping the next phase of digital transformation. \nAdvancing the Global Web3 EcosystemGBS 2026 will explore blockchain innovation across industries\, focusing on scalability\, security\, interoperability\, and real-world adoption. Sessions will examine how blockchain converges with AI\, quantum computing\, and the metaverse\, unlocking new models for decentralised infrastructure and digital economies. \nThe event also emphasises ecosystem development\, highlighting collaborative strategies for building sustainable Web3 frameworks\, accelerating innovation\, and enabling cross-border partnerships. \nA Platform for Innovation\, Policy\, and GrowthOver two days\, GBS 2026 delivers forward-looking discussions\, hands-on learning\, and structured networking opportunities. Dedicated networking zones and curated sessions will connect policymakers\, entrepreneurs\, investors\, and developers\, supporting meaningful collaboration across the blockchain value chain. \nAs Riyadh strengthens its position as a hub for emerging technologies\, the Global Blockchain Show highlights the city’s growing role in shaping the future of decentralized systems and Web3 innovation. \nDate: February 9–10\, 2026Venue: Malfa Hall\, RiyadhFor further information: www.globalblockchainshow.com/riyadh \nPRs: tan@mcfillmedia.com\nPartnerships\, Interviews & Marketing Support: ashish@mcfillmedia.com
URL:https://thetechnologyexpress.com/event/global-blockchain-show-riyadh/
LOCATION:Malfa Hall\, MHVG+QC\, Irqah\, Riyadh 12591\, Saudi Arabia\, Riyadh\, Riyadh\, Saudi Arabia
CATEGORIES:Event
ATTACH;FMTTYPE=image/png:https://thetechnologyexpress.com/wp-content/uploads/2026/01/GBS-PR-Banner-02-Riyadh-scaled.png
END:VEVENT
END:VCALENDAR